BEGIN:VCALENDAR
METHOD:PUBLISH
PRODID:Data::ICal 0.13
VERSION:2.0
BEGIN:VEVENT
DESCRIPTION:
DTSTAMP:20260423T102802Z
DTSTART;TZID=America/New_York:20260403T000000
DTEND;TZID=America/New_York:20260501T000000
LOCATION:
SUMMARY:KISS FM&#8217;s Friday After Work Social at Jackie&#8217;s Restaurant
UID:4337879-1775174400-1777593600
END:VEVENT
END:VCALENDAR
